BEGIN:VCALENDAR
VERSION:2.0
PRODID:-//Lower Heidelberg Township - ECPv6.15.20//NONSGML v1.0//EN
CALSCALE:GREGORIAN
METHOD:PUBLISH
X-ORIGINAL-URL:https://lowerheidelbergtownship.org
X-WR-CALDESC:Events for Lower Heidelberg Township
REFRESH-INTERVAL;VALUE=DURATION:PT1H
X-Robots-Tag:noindex
X-PUBLISHED-TTL:PT1H
BEGIN:VTIMEZONE
TZID:America/New_York
BEGIN:DAYLIGHT
TZOFFSETFROM:-0500
TZOFFSETTO:-0400
TZNAME:EDT
DTSTART:20250309T070000
END:DAYLIGHT
BEGIN:STANDARD
TZOFFSETFROM:-0400
TZOFFSETTO:-0500
TZNAME:EST
DTSTART:20251102T060000
END:STANDARD
BEGIN:DAYLIGHT
TZOFFSETFROM:-0500
TZOFFSETTO:-0400
TZNAME:EDT
DTSTART:20260308T070000
END:DAYLIGHT
BEGIN:STANDARD
TZOFFSETFROM:-0400
TZOFFSETTO:-0500
TZNAME:EST
DTSTART:20261101T060000
END:STANDARD
BEGIN:DAYLIGHT
TZOFFSETFROM:-0500
TZOFFSETTO:-0400
TZNAME:EDT
DTSTART:20270314T070000
END:DAYLIGHT
BEGIN:STANDARD
TZOFFSETFROM:-0400
TZOFFSETTO:-0500
TZNAME:EST
DTSTART:20271107T060000
END:STANDARD
END:VTIMEZONE
BEGIN:VEVENT
DTSTART;VALUE=DATE:20260417
DTEND;VALUE=DATE:20260425
DTSTAMP:20260424T132311
CREATED:20260420T180601Z
LAST-MODIFIED:20260420T180649Z
UID:10000111-1776384000-1777075199@lowerheidelbergtownship.org
SUMMARY:Phoebe Berks Annual Basket Raffle See Flyer for Details
DESCRIPTION:Please see attached Flyer for Details \nFlyer
URL:https://lowerheidelbergtownship.org/event/phoebe-berks-annual-basket-raffle/
END:VEVENT
BEGIN:VEVENT
DTSTART;VALUE=DATE:20260420
DTEND;VALUE=DATE:20260425
DTSTAMP:20260424T132311
CREATED:20260420T180851Z
LAST-MODIFIED:20260420T181637Z
UID:10000112-1776643200-1777075199@lowerheidelbergtownship.org
SUMMARY:LHT Organic Pick Up
DESCRIPTION:Organic waste flyer  \n 
URL:https://lowerheidelbergtownship.org/event/lht-organic-pick-up/
END:VEVENT
BEGIN:VEVENT
DTSTART;VALUE=DATE:20260425
DTEND;VALUE=DATE:20260427
DTSTAMP:20260424T132311
CREATED:20260205T165207Z
LAST-MODIFIED:20260219T183648Z
UID:10000084-1777075200-1777247999@lowerheidelbergtownship.org
SUMMARY:LHT Paper Shredding Event
DESCRIPTION:LHT Shredding Event \n 
URL:https://lowerheidelbergtownship.org/event/lht-paper-shredding-event/
LOCATION:Lower Heidelberg Township Building
END:VEVENT
BEGIN:VEVENT
DTSTART;TZID=America/New_York:20260427T160000
DTEND;TZID=America/New_York:20260427T180000
DTSTAMP:20260424T132311
CREATED:20260205T165756Z
LAST-MODIFIED:20260205T165756Z
UID:10000089-1777305600-1777312800@lowerheidelbergtownship.org
SUMMARY:Tax Collector
DESCRIPTION:
URL:https://lowerheidelbergtownship.org/event/tax-collector-5/
LOCATION:Lower Heidelberg Township Building
END:VEVENT
BEGIN:VEVENT
DTSTART;TZID=America/New_York:20260429T160000
DTEND;TZID=America/New_York:20260429T180000
DTSTAMP:20260424T132311
CREATED:20260205T165826Z
LAST-MODIFIED:20260205T165826Z
UID:10000090-1777478400-1777485600@lowerheidelbergtownship.org
SUMMARY:Tax Collector
DESCRIPTION:
URL:https://lowerheidelbergtownship.org/event/tax-collector-6/
LOCATION:Lower Heidelberg Township Building
END:VEVENT
BEGIN:VEVENT
DTSTART;TZID=America/New_York:20260430T160000
DTEND;TZID=America/New_York:20260430T180000
DTSTAMP:20260424T132311
CREATED:20260205T165853Z
LAST-MODIFIED:20260205T165853Z
UID:10000091-1777564800-1777572000@lowerheidelbergtownship.org
SUMMARY:Tax Collector
DESCRIPTION:
URL:https://lowerheidelbergtownship.org/event/tax-collector-7/
LOCATION:Lower Heidelberg Township Building
END:VEVENT
END:VCALENDAR