BEGIN:VCALENDAR
VERSION:2.0
PRODID:-//Lower Heidelberg Township - ECPv6.15.20//NONSGML v1.0//EN
CALSCALE:GREGORIAN
METHOD:PUBLISH
X-WR-CALNAME:Lower Heidelberg Township
X-ORIGINAL-URL:https://lowerheidelbergtownship.org
X-WR-CALDESC:Events for Lower Heidelberg Township
REFRESH-INTERVAL;VALUE=DURATION:PT1H
X-Robots-Tag:noindex
X-PUBLISHED-TTL:PT1H
BEGIN:VTIMEZONE
TZID:America/New_York
BEGIN:DAYLIGHT
TZOFFSETFROM:-0500
TZOFFSETTO:-0400
TZNAME:EDT
DTSTART:20240310T070000
END:DAYLIGHT
BEGIN:STANDARD
TZOFFSETFROM:-0400
TZOFFSETTO:-0500
TZNAME:EST
DTSTART:20241103T060000
END:STANDARD
BEGIN:DAYLIGHT
TZOFFSETFROM:-0500
TZOFFSETTO:-0400
TZNAME:EDT
DTSTART:20250309T070000
END:DAYLIGHT
BEGIN:STANDARD
TZOFFSETFROM:-0400
TZOFFSETTO:-0500
TZNAME:EST
DTSTART:20251102T060000
END:STANDARD
BEGIN:DAYLIGHT
TZOFFSETFROM:-0500
TZOFFSETTO:-0400
TZNAME:EDT
DTSTART:20260308T070000
END:DAYLIGHT
BEGIN:STANDARD
TZOFFSETFROM:-0400
TZOFFSETTO:-0500
TZNAME:EST
DTSTART:20261101T060000
END:STANDARD
BEGIN:DAYLIGHT
TZOFFSETFROM:-0500
TZOFFSETTO:-0400
TZNAME:EDT
DTSTART:20270314T070000
END:DAYLIGHT
BEGIN:STANDARD
TZOFFSETFROM:-0400
TZOFFSETTO:-0500
TZNAME:EST
DTSTART:20271107T060000
END:STANDARD
END:VTIMEZONE
BEGIN:VEVENT
DTSTART;TZID=America/New_York:20260311T190000
DTEND;TZID=America/New_York:20260311T200000
DTSTAMP:20260424T130006
CREATED:20260225T154823Z
LAST-MODIFIED:20260305T194944Z
UID:10000108-1773255600-1773259200@lowerheidelbergtownship.org
SUMMARY:Zoning Hearing Board Meeting
DESCRIPTION:Agenda \nMeeting Agenda  \n  \n 
URL:https://lowerheidelbergtownship.org/event/zoning-hearing-board-meeting-3/
LOCATION:Lower Heidelberg Township Building
END:VEVENT
BEGIN:VEVENT
DTSTART;TZID=America/New_York:20260310T150000
DTEND;TZID=America/New_York:20260310T160000
DTSTAMP:20260424T130006
CREATED:20260309T182057Z
LAST-MODIFIED:20260317T114700Z
UID:10000071-1773154800-1773158400@lowerheidelbergtownship.org
SUMMARY:Board of Supervisors Workshop
DESCRIPTION:Agenda \nAgenda_ BOS meeting_2026_3_17
URL:https://lowerheidelbergtownship.org/event/board-of-supervisors-workshop-3/
LOCATION:Lower Heidelberg Township Building
END:VEVENT
BEGIN:VEVENT
DTSTART;TZID=America/New_York:20260310T090000
DTEND;TZID=America/New_York:20260310T110000
DTSTAMP:20260424T130006
CREATED:20260205T165409Z
LAST-MODIFIED:20260309T162846Z
UID:10000085-1773133200-1773140400@lowerheidelbergtownship.org
SUMMARY:CANCELLED---Tax Collector--- MOVED TO MARCH 13th
DESCRIPTION:
URL:https://lowerheidelbergtownship.org/event/tax-collector/
LOCATION:Lower Heidelberg Township Building
END:VEVENT
BEGIN:VEVENT
DTSTART;TZID=America/New_York:20260309T190000
DTEND;TZID=America/New_York:20260309T200000
DTSTAMP:20260424T130006
CREATED:20260305T142632Z
LAST-MODIFIED:20260305T142632Z
UID:10000050-1773082800-1773086400@lowerheidelbergtownship.org
SUMMARY:CANCELLED- Planning Commission Meeting
DESCRIPTION:No Meeting
URL:https://lowerheidelbergtownship.org/event/planning-commission-meeting-7-3/
LOCATION:Lower Heidelberg Township Building
END:VEVENT
BEGIN:VEVENT
DTSTART;TZID=America/New_York:20260302T190000
DTEND;TZID=America/New_York:20260302T200000
DTSTAMP:20260424T130006
CREATED:20251218T173408Z
LAST-MODIFIED:20260107T200529Z
UID:10000060-1772478000-1772481600@lowerheidelbergtownship.org
SUMMARY:Recreation Board Meeting
DESCRIPTION:
URL:https://lowerheidelbergtownship.org/event/recreation-board-meeting-3/2026-03-02/
LOCATION:Lower Heidelberg Township Building
END:VEVENT
BEGIN:VEVENT
DTSTART;VALUE=DATE:20260222
DTEND;VALUE=DATE:20260223
DTSTAMP:20260424T130006
CREATED:20260222T125844Z
LAST-MODIFIED:20260222T125910Z
UID:10000107-1771718400-1771804799@lowerheidelbergtownship.org
SUMMARY:SNOW EMERGENCY IN EFFECT 12 PM SUNDAY TILL FURTHER NOTICE
DESCRIPTION:  \nPlease see list below for snow emergency roads \nRemove all parked cars \nSnow Emergency Routes
URL:https://lowerheidelbergtownship.org/event/snow-emergency-in-effect-12-pm-sunday-till-further-notice/
END:VEVENT
BEGIN:VEVENT
DTSTART;TZID=America/New_York:20260217T150000
DTEND;TZID=America/New_York:20260217T160000
DTSTAMP:20260424T130006
CREATED:20260217T143846Z
LAST-MODIFIED:20260217T144242Z
UID:10000036-1771340400-1771344000@lowerheidelbergtownship.org
SUMMARY:Board Of Supervisors Meeting
DESCRIPTION:Attendees: Board of Supervisors: Paul Prutzman\, Chair\, Cheryl Johnson\, Vice Chair\, Chip Bilger\, Member. \nAlso: Brian Cole Township Manager\, Matt Clay Road Foreman\, Police Chief Chris Stouch\, Jenn Frasso\, Treasurer/Secretary\, Glenn Kraft\, Kraft Municipal Group Building/Zoning Engineering\, Ryan Rhode\, Kraft Municipal Group/Engineering\, Jim McCarthy\, McCarthy Engineering (SEO)\, Andrew Bellwoar Esquire. \n  \nAgenda \nAgenda_ BOS meeting_2026_2_17
URL:https://lowerheidelbergtownship.org/event/board-of-supervisors-meeting-2/
END:VEVENT
BEGIN:VEVENT
DTSTART;TZID=America/New_York:20260210T150000
DTEND;TZID=America/New_York:20260210T160000
DTSTAMP:20260424T130006
CREATED:20260209T165250Z
LAST-MODIFIED:20260209T165255Z
UID:10000070-1770735600-1770739200@lowerheidelbergtownship.org
SUMMARY:CANCELLED-Board of Supervisors Workshop
DESCRIPTION:
URL:https://lowerheidelbergtownship.org/event/board-of-supervisors-workshop-2/
LOCATION:Lower Heidelberg Township Building
END:VEVENT
BEGIN:VEVENT
DTSTART;TZID=America/New_York:20260209T190000
DTEND;TZID=America/New_York:20260209T200000
DTSTAMP:20260424T130006
CREATED:20260107T200224Z
LAST-MODIFIED:20260206T195659Z
UID:10000038-1770663600-1770667200@lowerheidelbergtownship.org
SUMMARY:Planning Commission Meeting
DESCRIPTION:Agenda \nLHT PC AGENDA 2-9-26 \n 
URL:https://lowerheidelbergtownship.org/event/planning-commission-meeting-7-2/
LOCATION:Lower Heidelberg Township Building
END:VEVENT
BEGIN:VEVENT
DTSTART;TZID=America/New_York:20260202T190000
DTEND;TZID=America/New_York:20260202T200000
DTSTAMP:20260424T130006
CREATED:20251218T173408Z
LAST-MODIFIED:20260107T200529Z
UID:10000037-1770058800-1770062400@lowerheidelbergtownship.org
SUMMARY:Recreation Board Meeting
DESCRIPTION:
URL:https://lowerheidelbergtownship.org/event/recreation-board-meeting-3/2026-02-02/
LOCATION:Lower Heidelberg Township Building
END:VEVENT
BEGIN:VEVENT
DTSTART;VALUE=DATE:20260120
DTEND;VALUE=DATE:20260121
DTSTAMP:20260424T130006
CREATED:20251218T170456Z
LAST-MODIFIED:20251218T170558Z
UID:10000034-1768867200-1768953599@lowerheidelbergtownship.org
SUMMARY:BOS Meeting Moved to Jan 5th
DESCRIPTION:
URL:https://lowerheidelbergtownship.org/event/bos-meeting-moved-to-jan-5th/
END:VEVENT
BEGIN:VEVENT
DTSTART;TZID=America/New_York:20260112T190000
DTEND;TZID=America/New_York:20260112T190000
DTSTAMP:20260424T130006
CREATED:20260105T134230Z
LAST-MODIFIED:20260105T134230Z
UID:10000039-1768244400-1768244400@lowerheidelbergtownship.org
SUMMARY:CANCELLED PLANNING COMMISSION MEETING
DESCRIPTION:
URL:https://lowerheidelbergtownship.org/event/cancelled-planning-commission-meeting/
END:VEVENT
BEGIN:VEVENT
DTSTART;TZID=America/New_York:20260106T100000
DTEND;TZID=America/New_York:20260106T103000
DTSTAMP:20260424T130006
CREATED:20251218T172944Z
LAST-MODIFIED:20251218T172944Z
UID:10000035-1767693600-1767695400@lowerheidelbergtownship.org
SUMMARY:LHT Board of Auditors Meeting
DESCRIPTION:
URL:https://lowerheidelbergtownship.org/event/lht-board-of-auditors-meeting/
LOCATION:Lower Heidelberg Township Building
END:VEVENT
BEGIN:VEVENT
DTSTART;TZID=America/New_York:20260105T100000
DTEND;TZID=America/New_York:20260105T110000
DTSTAMP:20260424T130006
CREATED:20251208T161208Z
LAST-MODIFIED:20260105T131745Z
UID:10000032-1767607200-1767610800@lowerheidelbergtownship.org
SUMMARY:Board of Supervisors Reorganization Meeting & BOS January Meeting
DESCRIPTION:Attendees: Board of Supervisors: Cheryl Johnson\, Chair\, Paul Prutzman\, Vice Chair\, Chip Bilger\, Member. \nAlso: Brian Cole Township Manager\, Matt Clay Road Foreman\, Police Chief Chris Stouch\, Jenn Frasso\, Treasurer/Secretary\, Glenn Kraft\, Kraft Municipal Group Building/Zoning Engineering\, Ryan Rhode\, Kraft Municipal Group/Engineering\, Jim McCarthy\, McCarthy Engineering (SEO)\, Andrew Bellwoar Esquire. \n\nAGENDA: \nReorganization Meeting Agenda 1.5.26
URL:https://lowerheidelbergtownship.org/event/board-of-supervisors-reorganization-meeting/
LOCATION:Lower Heidelberg Township Building
END:VEVENT
BEGIN:VEVENT
DTSTART;VALUE=DATE:20260105
DTEND;VALUE=DATE:20260106
DTSTAMP:20260424T130006
CREATED:20251212T152326Z
LAST-MODIFIED:20251212T152806Z
UID:10000033-1767571200-1767657599@lowerheidelbergtownship.org
SUMMARY:Curbside Christmas Tree Pick-Up
DESCRIPTION:Tree pick up
URL:https://lowerheidelbergtownship.org/event/curbside-christmas-tree-pick-up/
END:VEVENT
BEGIN:VEVENT
DTSTART;VALUE=DATE:20260101
DTEND;VALUE=DATE:20260103
DTSTAMP:20260424T130006
CREATED:20250924T151221Z
LAST-MODIFIED:20250924T151221Z
UID:10000028-1767225600-1767398399@lowerheidelbergtownship.org
SUMMARY:Happy New Year- Township Office Closed
DESCRIPTION:
URL:https://lowerheidelbergtownship.org/event/happy-new-year-township-office-closed/
LOCATION:Lower Heidelberg Township Building
END:VEVENT
BEGIN:VEVENT
DTSTART;VALUE=DATE:20251225
DTEND;VALUE=DATE:20251227
DTSTAMP:20260424T130006
CREATED:20250924T151134Z
LAST-MODIFIED:20250924T151134Z
UID:10000027-1766620800-1766793599@lowerheidelbergtownship.org
SUMMARY:Merry Christmas- Township Office Closed
DESCRIPTION:
URL:https://lowerheidelbergtownship.org/event/merry-christmas-township-office-closed/
LOCATION:Lower Heidelberg Township Building
END:VEVENT
BEGIN:VEVENT
DTSTART;TZID=America/New_York:20251216T150000
DTEND;TZID=America/New_York:20251216T160000
DTSTAMP:20260424T130006
CREATED:20250924T150344Z
LAST-MODIFIED:20251215T195757Z
UID:10000021-1765897200-1765900800@lowerheidelbergtownship.org
SUMMARY:Board Of Supervisors Monthly Meeting
DESCRIPTION:Board Of Supervisors Monthly Meeting\n\nDecember 16\, 2025 @ 3:00 pm – 4:00 pm\n\n\n\nAttendees: Board of Supervisors: Cheryl Johnson\, Chair\, Paul Prutzman\, Vice Chair\, Chip Bilger\, Member. \nAlso: Brian Cole Township Manager\, Matt Clay Road Foreman\, Police Chief Chris Stouch\, Jenn Frasso\, Treasurer/Secretary\, Glenn Kraft\, Kraft Municipal Group Building/Zoning Engineering\, Ryan Rhode\, Kraft Municipal Group/Engineering\, Jim McCarthy\, McCarthy Engineering (SEO)\, Andrew Bellwoar Esquire. \n\nAgenda: \nAgenda_ BOS meeting_2025_12_16
URL:https://lowerheidelbergtownship.org/event/board-of-supervisors-monthly-meeting-5/
LOCATION:Lower Heidelberg Township Building
END:VEVENT
BEGIN:VEVENT
DTSTART;TZID=America/New_York:20251213T140000
DTEND;TZID=America/New_York:20251213T160000
DTSTAMP:20260424T130006
CREATED:20250924T151051Z
LAST-MODIFIED:20251006T150700Z
UID:10000026-1765634400-1765641600@lowerheidelbergtownship.org
SUMMARY:Township Kids Christmas Party
DESCRIPTION:Join us for a fun filled Christmas Party for the Kids! We will have snacks\, crafts and pictures with Santa.
URL:https://lowerheidelbergtownship.org/event/township-kids-christmas-party/
LOCATION:Lower Heidelberg Township Building
ATTACH;FMTTYPE=image/jpeg:https://lowerheidelbergtownship.org/wp-content/uploads/2025/09/Kids-Christmas-Party-2023.jpg
END:VEVENT
BEGIN:VEVENT
DTSTART;TZID=America/New_York:20251210T180000
DTEND;TZID=America/New_York:20251210T190000
DTSTAMP:20260424T130006
CREATED:20251120T131652Z
LAST-MODIFIED:20251202T133231Z
UID:10000031-1765389600-1765393200@lowerheidelbergtownship.org
SUMMARY:Zoning Hearing Board Meeting
DESCRIPTION:Agenda- 130 Connecticut Ave \nMeeting Agenda 12.10.25
URL:https://lowerheidelbergtownship.org/event/zoning-hearing-board-meeting-2/
LOCATION:Lower Heidelberg Township Building
END:VEVENT
BEGIN:VEVENT
DTSTART;TZID=America/New_York:20251208T190000
DTEND;TZID=America/New_York:20251208T200000
DTSTAMP:20260424T130006
CREATED:20250924T150504Z
LAST-MODIFIED:20251204T183758Z
UID:10000023-1765220400-1765224000@lowerheidelbergtownship.org
SUMMARY:CANCELLED- Planning Commission Meeting
DESCRIPTION:
URL:https://lowerheidelbergtownship.org/event/planning-commission-meeting-6/
LOCATION:Lower Heidelberg Township Building
END:VEVENT
BEGIN:VEVENT
DTSTART;TZID=America/New_York:20251201T190000
DTEND;TZID=America/New_York:20251201T200000
DTSTAMP:20260424T130006
CREATED:20250924T150752Z
LAST-MODIFIED:20250924T150752Z
UID:10000025-1764615600-1764619200@lowerheidelbergtownship.org
SUMMARY:Rec Board Meeting
DESCRIPTION:
URL:https://lowerheidelbergtownship.org/event/rec-board-meeting-2/
LOCATION:Lower Heidelberg Township Building
END:VEVENT
BEGIN:VEVENT
DTSTART;VALUE=DATE:20251127
DTEND;VALUE=DATE:20251129
DTSTAMP:20260424T130006
CREATED:20250924T150031Z
LAST-MODIFIED:20250924T150031Z
UID:10000019-1764201600-1764374399@lowerheidelbergtownship.org
SUMMARY:Happy Thanksgiving- Township Office Closed
DESCRIPTION:
URL:https://lowerheidelbergtownship.org/event/happy-thanksgiving-township-office-closed/
END:VEVENT
BEGIN:VEVENT
DTSTART;TZID=America/New_York:20251119T180000
DTEND;TZID=America/New_York:20251119T200000
DTSTAMP:20260424T130006
CREATED:20251013T143622Z
LAST-MODIFIED:20251117T142235Z
UID:10000030-1763575200-1763582400@lowerheidelbergtownship.org
SUMMARY:Zoning Hearing Board Meeting
DESCRIPTION:Meeting Agenda \n6 p.m. – 2 Carmina Dr \n7 p.m. -130 Connecticut Ave \nAgenda \nMeeting Agenda
URL:https://lowerheidelbergtownship.org/event/zoning-hearing-board-meeting/
LOCATION:Lower Heidelberg Township Building
END:VEVENT
BEGIN:VEVENT
DTSTART;TZID=America/New_York:20251118T150000
DTEND;TZID=America/New_York:20251118T160000
DTSTAMP:20260424T130006
CREATED:20250924T145522Z
LAST-MODIFIED:20251118T134333Z
UID:10000016-1763478000-1763481600@lowerheidelbergtownship.org
SUMMARY:Board Of Supervisors Monthly Meeting
DESCRIPTION:Board Of Supervisors Monthly Meeting\n\nNovember 18\, 2025 @ 3:00 pm – 4:00 pm\n\n\n\nAttendees: Board of Supervisors: Cheryl Johnson\, Chair\, Paul Prutzman\, Vice Chair\, Chip Bilger\, Member. \nAlso: Brian Cole Township Manager\, Matt Clay Road Foreman\, Police Chief Chris Stouch\, Jenn Frasso\, Treasurer/Secretary\, Glenn Kraft\, Kraft Municipal Group Building/Zoning Engineering\, Ryan Rhode\, Kraft Municipal Group/Engineering\, Jim McCarthy\, McCarthy Engineering (SEO)\, Andrew Bellwoar Esquire. \n\nAGENDA \nAgenda_ BOS meeting_2025_11_18
URL:https://lowerheidelbergtownship.org/event/board-of-supervisors-monthly-meeting-4/
LOCATION:Lower Heidelberg Township Building
END:VEVENT
BEGIN:VEVENT
DTSTART;VALUE=DATE:20251111
DTEND;VALUE=DATE:20251112
DTSTAMP:20260424T130006
CREATED:20250924T145559Z
LAST-MODIFIED:20250924T145559Z
UID:10000017-1762819200-1762905599@lowerheidelbergtownship.org
SUMMARY:Veterans Day Township Office Closed
DESCRIPTION:
URL:https://lowerheidelbergtownship.org/event/veterans-day-township-office-closed/
LOCATION:Lower Heidelberg Township Building
END:VEVENT
BEGIN:VEVENT
DTSTART;TZID=America/New_York:20251110T190000
DTEND;TZID=America/New_York:20251110T200000
DTSTAMP:20260424T130006
CREATED:20250924T150427Z
LAST-MODIFIED:20251103T140818Z
UID:10000022-1762801200-1762804800@lowerheidelbergtownship.org
SUMMARY:CANCELLED-Planning Commission Meeting
DESCRIPTION:
URL:https://lowerheidelbergtownship.org/event/planning-commission-meeting-5/
LOCATION:Lower Heidelberg Township Building
END:VEVENT
BEGIN:VEVENT
DTSTART;VALUE=DATE:20251104
DTEND;VALUE=DATE:20251105
DTSTAMP:20260424T130006
CREATED:20250924T145636Z
LAST-MODIFIED:20250924T145636Z
UID:10000018-1762214400-1762300799@lowerheidelbergtownship.org
SUMMARY:Election Day- Township Office Closed
DESCRIPTION:
URL:https://lowerheidelbergtownship.org/event/election-day-township-office-closed/
LOCATION:Lower Heidelberg Township Building
END:VEVENT
BEGIN:VEVENT
DTSTART;TZID=America/New_York:20251103T190000
DTEND;TZID=America/New_York:20251103T200000
DTSTAMP:20260424T130006
CREATED:20250924T150721Z
LAST-MODIFIED:20250924T150721Z
UID:10000024-1762196400-1762200000@lowerheidelbergtownship.org
SUMMARY:Rec Board Meeting
DESCRIPTION:
URL:https://lowerheidelbergtownship.org/event/rec-board-meeting/
LOCATION:Lower Heidelberg Township Building
END:VEVENT
BEGIN:VEVENT
DTSTART;TZID=America/New_York:20251031T180000
DTEND;TZID=America/New_York:20251031T210000
DTSTAMP:20260424T130006
CREATED:20250924T150157Z
LAST-MODIFIED:20250924T150157Z
UID:10000020-1761933600-1761944400@lowerheidelbergtownship.org
SUMMARY:Happy Halloween- Trick or Treat
DESCRIPTION:
URL:https://lowerheidelbergtownship.org/event/happy-halloween-trick-or-treat/
END:VEVENT
END:VCALENDAR