BEGIN:VCALENDAR
VERSION:2.0
PRODID:-//Lower Heidelberg Township - ECPv6.15.20//NONSGML v1.0//EN
CALSCALE:GREGORIAN
METHOD:PUBLISH
X-ORIGINAL-URL:https://lowerheidelbergtownship.org
X-WR-CALDESC:Events for Lower Heidelberg Township
REFRESH-INTERVAL;VALUE=DURATION:PT1H
X-Robots-Tag:noindex
X-PUBLISHED-TTL:PT1H
BEGIN:VTIMEZONE
TZID:America/New_York
BEGIN:DAYLIGHT
TZOFFSETFROM:-0500
TZOFFSETTO:-0400
TZNAME:EDT
DTSTART:20240310T070000
END:DAYLIGHT
BEGIN:STANDARD
TZOFFSETFROM:-0400
TZOFFSETTO:-0500
TZNAME:EST
DTSTART:20241103T060000
END:STANDARD
BEGIN:DAYLIGHT
TZOFFSETFROM:-0500
TZOFFSETTO:-0400
TZNAME:EDT
DTSTART:20250309T070000
END:DAYLIGHT
BEGIN:STANDARD
TZOFFSETFROM:-0400
TZOFFSETTO:-0500
TZNAME:EST
DTSTART:20251102T060000
END:STANDARD
BEGIN:DAYLIGHT
TZOFFSETFROM:-0500
TZOFFSETTO:-0400
TZNAME:EDT
DTSTART:20260308T070000
END:DAYLIGHT
BEGIN:STANDARD
TZOFFSETFROM:-0400
TZOFFSETTO:-0500
TZNAME:EST
DTSTART:20261101T060000
END:STANDARD
END:VTIMEZONE
BEGIN:VEVENT
DTSTART;TZID=America/New_York:20251118T150000
DTEND;TZID=America/New_York:20251118T160000
DTSTAMP:20260424T160946
CREATED:20250924T145522Z
LAST-MODIFIED:20251118T134333Z
UID:10000016-1763478000-1763481600@lowerheidelbergtownship.org
SUMMARY:Board Of Supervisors Monthly Meeting
DESCRIPTION:Board Of Supervisors Monthly Meeting\n\nNovember 18\, 2025 @ 3:00 pm – 4:00 pm\n\n\n\nAttendees: Board of Supervisors: Cheryl Johnson\, Chair\, Paul Prutzman\, Vice Chair\, Chip Bilger\, Member. \nAlso: Brian Cole Township Manager\, Matt Clay Road Foreman\, Police Chief Chris Stouch\, Jenn Frasso\, Treasurer/Secretary\, Glenn Kraft\, Kraft Municipal Group Building/Zoning Engineering\, Ryan Rhode\, Kraft Municipal Group/Engineering\, Jim McCarthy\, McCarthy Engineering (SEO)\, Andrew Bellwoar Esquire. \n\nAGENDA \nAgenda_ BOS meeting_2025_11_18
URL:https://lowerheidelbergtownship.org/event/board-of-supervisors-monthly-meeting-4/
LOCATION:Lower Heidelberg Township Building
END:VEVENT
BEGIN:VEVENT
DTSTART;VALUE=DATE:20251111
DTEND;VALUE=DATE:20251112
DTSTAMP:20260424T160946
CREATED:20250924T145559Z
LAST-MODIFIED:20250924T145559Z
UID:10000017-1762819200-1762905599@lowerheidelbergtownship.org
SUMMARY:Veterans Day Township Office Closed
DESCRIPTION:
URL:https://lowerheidelbergtownship.org/event/veterans-day-township-office-closed/
LOCATION:Lower Heidelberg Township Building
END:VEVENT
BEGIN:VEVENT
DTSTART;TZID=America/New_York:20251110T190000
DTEND;TZID=America/New_York:20251110T200000
DTSTAMP:20260424T160946
CREATED:20250924T150427Z
LAST-MODIFIED:20251103T140818Z
UID:10000022-1762801200-1762804800@lowerheidelbergtownship.org
SUMMARY:CANCELLED-Planning Commission Meeting
DESCRIPTION:
URL:https://lowerheidelbergtownship.org/event/planning-commission-meeting-5/
LOCATION:Lower Heidelberg Township Building
END:VEVENT
BEGIN:VEVENT
DTSTART;VALUE=DATE:20251104
DTEND;VALUE=DATE:20251105
DTSTAMP:20260424T160946
CREATED:20250924T145636Z
LAST-MODIFIED:20250924T145636Z
UID:10000018-1762214400-1762300799@lowerheidelbergtownship.org
SUMMARY:Election Day- Township Office Closed
DESCRIPTION:
URL:https://lowerheidelbergtownship.org/event/election-day-township-office-closed/
LOCATION:Lower Heidelberg Township Building
END:VEVENT
BEGIN:VEVENT
DTSTART;TZID=America/New_York:20251103T190000
DTEND;TZID=America/New_York:20251103T200000
DTSTAMP:20260424T160946
CREATED:20250924T150721Z
LAST-MODIFIED:20250924T150721Z
UID:10000024-1762196400-1762200000@lowerheidelbergtownship.org
SUMMARY:Rec Board Meeting
DESCRIPTION:
URL:https://lowerheidelbergtownship.org/event/rec-board-meeting/
LOCATION:Lower Heidelberg Township Building
END:VEVENT
BEGIN:VEVENT
DTSTART;TZID=America/New_York:20251031T180000
DTEND;TZID=America/New_York:20251031T210000
DTSTAMP:20260424T160946
CREATED:20250924T150157Z
LAST-MODIFIED:20250924T150157Z
UID:10000020-1761933600-1761944400@lowerheidelbergtownship.org
SUMMARY:Happy Halloween- Trick or Treat
DESCRIPTION:
URL:https://lowerheidelbergtownship.org/event/happy-halloween-trick-or-treat/
END:VEVENT
BEGIN:VEVENT
DTSTART;TZID=America/New_York:20251021T150000
DTEND;TZID=America/New_York:20251021T160000
DTSTAMP:20260424T160946
CREATED:20250924T142706Z
LAST-MODIFIED:20251020T191738Z
UID:10000012-1761058800-1761062400@lowerheidelbergtownship.org
SUMMARY:Board Of Supervisors Monthly Meeting
DESCRIPTION:Board Of Supervisors Monthly Meeting\n\nOctober 21\, 2025 @ 3:00 pm – 4:00 pm\n\n\n\nAttendees: Board of Supervisors: Cheryl Johnson\, Chair\, Paul Prutzman\, Vice Chair\, Chip Bilger\, Member. \nAlso: Brian Cole Township Manager\, Matt Clay Road Foreman\, Police Chief Chris Stouch\, Jenn Frasso\, Treasurer/Secretary\, Glenn Kraft\, Kraft Municipal Group Building/Zoning Engineering\, Ryan Rhode\, Kraft Municipal Group/Engineering\, Jim McCarthy\, McCarthy Engineering (SEO)\, Andrew Bellwoar Esquire. \n\nAgenda: \nAgenda_ BOS meeting_2025_10_21
URL:https://lowerheidelbergtownship.org/event/board-of-supervisors-monthly-meeting-2/
LOCATION:Lower Heidelberg Township Building
END:VEVENT
BEGIN:VEVENT
DTSTART;TZID=America/New_York:20251013T190000
DTEND;TZID=America/New_York:20251013T200000
DTSTAMP:20260424T160946
CREATED:20250924T142913Z
LAST-MODIFIED:20251008T143629Z
UID:10000013-1760382000-1760385600@lowerheidelbergtownship.org
SUMMARY:CANCELLED- Planning Commission Meeting
DESCRIPTION:No meeting to be held
URL:https://lowerheidelbergtownship.org/event/planning-commission-meeting-4/
LOCATION:Lower Heidelberg Township Building
END:VEVENT
BEGIN:VEVENT
DTSTART;VALUE=DATE:20251013
DTEND;VALUE=DATE:20251206
DTSTAMP:20260424T160946
CREATED:20250924T145218Z
LAST-MODIFIED:20251105T143535Z
UID:10000015-1760313600-1764979199@lowerheidelbergtownship.org
SUMMARY:Leaf Pickup Begins
DESCRIPTION:  \nLeaf collection flyer
URL:https://lowerheidelbergtownship.org/event/leaf-pickup-begins/
END:VEVENT
BEGIN:VEVENT
DTSTART;TZID=America/New_York:20251006T190000
DTEND;TZID=America/New_York:20251006T200000
DTSTAMP:20260424T160947
CREATED:20250708T151221Z
LAST-MODIFIED:20250924T123105Z
UID:10000011-1759777200-1759780800@lowerheidelbergtownship.org
SUMMARY:Recreation Board Meeting
DESCRIPTION:
URL:https://lowerheidelbergtownship.org/event/recreation-board-meeting-canceled-3/
LOCATION:Lower Heidelberg Township Building
END:VEVENT
BEGIN:VEVENT
DTSTART;TZID=America/New_York:20251006T080000
DTEND;TZID=America/New_York:20251010T120000
DTSTAMP:20260424T160947
CREATED:20250924T143951Z
LAST-MODIFIED:20250924T143959Z
UID:10000014-1759737600-1760097600@lowerheidelbergtownship.org
SUMMARY:Fall Yard Waste Curbside Pickup
DESCRIPTION:Yard Waste Collection\nYard waste flyer \nPLEASE USE PAPER BAGS OR A CLEAN EMPTY TRASH CAN. PLASTIC BAGS ARE NOT ACCEPTED. BRANCHES CAN BE BUNDLED WITH ROPE OR TWINE\, PLEASE NO WIRE\, BUNDLES CAN ONLY BE UP TO 4 FOOT LONG. IF THERE IS TRASH WITHIN ANY OF THE YARD WASTE\, IT WILL BE LEFT BEHIND.
URL:https://lowerheidelbergtownship.org/event/fall-yard-waste-curbside-pickup/
END:VEVENT
BEGIN:VEVENT
DTSTART;TZID=America/New_York:20250916T150000
DTEND;TZID=America/New_York:20250916T160000
DTSTAMP:20260424T160947
CREATED:20250708T151146Z
LAST-MODIFIED:20250924T134334Z
UID:10000010-1758034800-1758038400@lowerheidelbergtownship.org
SUMMARY:Board Of Supervisors Monthly Meeting
DESCRIPTION:Attendees: Board of Supervisors: Cheryl Johnson\, Chair\, Paul Prutzman\, Vice Chair\, Chip Bilger\, Member. \nAlso: Brian Cole Township Manager\, Matt Clay Road Foreman\, Police Chief Chris Stouch\, Jenn Frasso\, Treasurer/Secretary\, Glenn Kraft\, Kraft Municipal Group Building/Zoning Engineering\, Ryan Rhode\, Kraft Municipal Group/Engineering\, Jim McCarthy\, McCarthy Engineering (SEO)\, Andrew Bellwoar Esquire. \n 
URL:https://lowerheidelbergtownship.org/event/board-of-supervisors-monthly-meeting-3/
LOCATION:Lower Heidelberg Township Building
END:VEVENT
BEGIN:VEVENT
DTSTART;TZID=America/New_York:20250908T190000
DTEND;TZID=America/New_York:20250908T200000
DTSTAMP:20260424T160947
CREATED:20250708T151114Z
LAST-MODIFIED:20250708T151114Z
UID:10000009-1757358000-1757361600@lowerheidelbergtownship.org
SUMMARY:Planning Commission Meeting
DESCRIPTION:
URL:https://lowerheidelbergtownship.org/event/planning-commission-meeting-3/
LOCATION:Lower Heidelberg Township Building
END:VEVENT
BEGIN:VEVENT
DTSTART;TZID=America/New_York:20250901T190000
DTEND;TZID=America/New_York:20250901T200000
DTSTAMP:20260424T160947
CREATED:20250708T151039Z
LAST-MODIFIED:20250708T151039Z
UID:10000008-1756753200-1756756800@lowerheidelbergtownship.org
SUMMARY:Recreation Board Meeting (Canceled)
DESCRIPTION:Canceled
URL:https://lowerheidelbergtownship.org/event/recreation-board-meeting-canceled-2/
LOCATION:Lower Heidelberg Township Building
END:VEVENT
BEGIN:VEVENT
DTSTART;TZID=America/New_York:20250811T190000
DTEND;TZID=America/New_York:20250811T200000
DTSTAMP:20260424T160947
CREATED:20250708T150839Z
LAST-MODIFIED:20250708T150839Z
UID:10000006-1754938800-1754942400@lowerheidelbergtownship.org
SUMMARY:Planning Commission Meeting
DESCRIPTION:
URL:https://lowerheidelbergtownship.org/event/planning-commission-meeting-2/
LOCATION:Lower Heidelberg Township Building
END:VEVENT
BEGIN:VEVENT
DTSTART;TZID=America/New_York:20250805T180000
DTEND;TZID=America/New_York:20250805T210000
DTSTAMP:20260424T160947
CREATED:20250708T150804Z
LAST-MODIFIED:20250708T150804Z
UID:10000005-1754416800-1754427600@lowerheidelbergtownship.org
SUMMARY:National Night Out
DESCRIPTION:  \nWe’re asking for any donations to assist us in making this event possible. We will need food\, monetary donations\, and volunteers during the event. Anything you would be able to help with would be greatly appreciated in making this a very special event for all. This is a Non-Profit community event. \nTo volunteer or have questions please contact Mike Andrews: mandrews@lowerhbpd.org \nWILSON WEST MIDDLE SCHOOL\n450 Faust Road\nSinking Spring\, PA 19608
URL:https://lowerheidelbergtownship.org/event/national-night-out/
ATTACH;FMTTYPE=image/jpeg:https://lowerheidelbergtownship.org/wp-content/uploads/2025/07/10-scaled-1.jpg
END:VEVENT
BEGIN:VEVENT
DTSTART;TZID=America/New_York:20250804T190000
DTEND;TZID=America/New_York:20250804T200000
DTSTAMP:20260424T160947
CREATED:20250708T150557Z
LAST-MODIFIED:20250723T105205Z
UID:10000004-1754334000-1754337600@lowerheidelbergtownship.org
SUMMARY:Recreation Board Meeting
DESCRIPTION:
URL:https://lowerheidelbergtownship.org/event/recreation-board-meeting-2/
LOCATION:Lower Heidelberg Township Building
END:VEVENT
BEGIN:VEVENT
DTSTART;TZID=America/New_York:20250715T150000
DTEND;TZID=America/New_York:20250715T160000
DTSTAMP:20260424T160947
CREATED:20250708T150448Z
LAST-MODIFIED:20250708T150458Z
UID:10000003-1752591600-1752595200@lowerheidelbergtownship.org
SUMMARY:Board Of Supervisors Monthly Meeting
DESCRIPTION:Attendees: Board of Supervisors: Cheryl Johnson\, Chair\, Paul Prutzman\, Vice Chair\, Chip Bilger\, Member. \nAlso: Brian Cole Township Manager\, Matt Clay Road Foreman\, Police Chief Chris Stouch\, Jenn Frasso\, Treasurer/Secretary\, Glenn Kraft\, Kraft Municipal Group Building/Zoning Engineering\, Ryan Rhode\, Kraft Municipal Group/Engineering\, Jim McCarthy\, McCarthy Engineering (SEO)\, Andrew Bellwoar Esquire. \n 
URL:https://lowerheidelbergtownship.org/event/board-of-supervisors-monthly-meeting/
LOCATION:Lower Heidelberg Township Building
END:VEVENT
BEGIN:VEVENT
DTSTART;TZID=America/New_York:20250714T190000
DTEND;TZID=America/New_York:20250714T200000
DTSTAMP:20260424T160947
CREATED:20250708T150336Z
LAST-MODIFIED:20250708T150336Z
UID:10000002-1752519600-1752523200@lowerheidelbergtownship.org
SUMMARY:Planning Commission Meeting
DESCRIPTION:Agenda
URL:https://lowerheidelbergtownship.org/event/planning-commission-meeting/
LOCATION:Lower Heidelberg Township Building
END:VEVENT
BEGIN:VEVENT
DTSTART;TZID=America/New_York:20250407T150000
DTEND;TZID=America/New_York:20250407T160000
DTSTAMP:20260424T160947
CREATED:20250325T123307Z
LAST-MODIFIED:20250325T123307Z
UID:10000001-1744038000-1744041600@lowerheidelbergtownship.org
SUMMARY:Recreation Board Meeting
DESCRIPTION:
URL:https://lowerheidelbergtownship.org/event/recreation-board-meeting/
LOCATION:Lower Heidelberg Township Building
END:VEVENT
END:VCALENDAR