BEGIN:VCALENDAR
VERSION:2.0
PRODID:-//Lower Heidelberg Township - ECPv6.15.20//NONSGML v1.0//EN
CALSCALE:GREGORIAN
METHOD:PUBLISH
X-ORIGINAL-URL:https://lowerheidelbergtownship.org
X-WR-CALDESC:Events for Lower Heidelberg Township
REFRESH-INTERVAL;VALUE=DURATION:PT1H
X-Robots-Tag:noindex
X-PUBLISHED-TTL:PT1H
BEGIN:VTIMEZONE
TZID:America/New_York
BEGIN:DAYLIGHT
TZOFFSETFROM:-0500
TZOFFSETTO:-0400
TZNAME:EDT
DTSTART:20250309T070000
END:DAYLIGHT
BEGIN:STANDARD
TZOFFSETFROM:-0400
TZOFFSETTO:-0500
TZNAME:EST
DTSTART:20251102T060000
END:STANDARD
BEGIN:DAYLIGHT
TZOFFSETFROM:-0500
TZOFFSETTO:-0400
TZNAME:EDT
DTSTART:20260308T070000
END:DAYLIGHT
BEGIN:STANDARD
TZOFFSETFROM:-0400
TZOFFSETTO:-0500
TZNAME:EST
DTSTART:20261101T060000
END:STANDARD
BEGIN:DAYLIGHT
TZOFFSETFROM:-0500
TZOFFSETTO:-0400
TZNAME:EDT
DTSTART:20270314T070000
END:DAYLIGHT
BEGIN:STANDARD
TZOFFSETFROM:-0400
TZOFFSETTO:-0500
TZNAME:EST
DTSTART:20271107T060000
END:STANDARD
BEGIN:DAYLIGHT
TZOFFSETFROM:-0500
TZOFFSETTO:-0400
TZNAME:EDT
DTSTART:20280312T070000
END:DAYLIGHT
BEGIN:STANDARD
TZOFFSETFROM:-0400
TZOFFSETTO:-0500
TZNAME:EST
DTSTART:20281105T060000
END:STANDARD
END:VTIMEZONE
BEGIN:VEVENT
DTSTART;TZID=America/New_York:20261215T150000
DTEND;TZID=America/New_York:20261215T160000
DTSTAMP:20260424T160249
CREATED:20251218T173246Z
LAST-MODIFIED:20260318T151954Z
UID:10000049-1797346800-1797350400@lowerheidelbergtownship.org
SUMMARY:Board Of Supervisors Meeting
DESCRIPTION:Attendees: Board of Supervisors: Paul Prutzman\, Chair\, Cheryl Johnson\, Vice Chair\, Craig Lutz\, Member. \nAlso: Brian Cole Township Manager\, Matt Clay Road Foreman\, Police Chief Chris Stouch\, Jenn Frasso\, Treasurer/Secretary\, Glenn Kraft\, Kraft Municipal Group Building/Zoning Engineering\, Ryan Rhode\, Kraft Municipal Group/Engineering\, Jim McCarthy\, McCarthy Engineering (SEO)\, Andrew Bellwoar Esquire.
URL:https://lowerheidelbergtownship.org/event/board-of-supervisors-meeting/2026-12-15/
END:VEVENT
BEGIN:VEVENT
DTSTART;VALUE=DATE:20261225
DTEND;VALUE=DATE:20261226
DTSTAMP:20260424T160249
CREATED:20260205T171451Z
LAST-MODIFIED:20260205T171451Z
UID:10000103-1798156800-1798243199@lowerheidelbergtownship.org
SUMMARY:Christmas Day- Township Office CLosed
DESCRIPTION:
URL:https://lowerheidelbergtownship.org/event/christmas-day-township-office-closed/
LOCATION:Lower Heidelberg Township Building
END:VEVENT
BEGIN:VEVENT
DTSTART;VALUE=DATE:20270101
DTEND;VALUE=DATE:20270102
DTSTAMP:20260424T160249
CREATED:20260205T171523Z
LAST-MODIFIED:20260205T171523Z
UID:10000104-1798761600-1798847999@lowerheidelbergtownship.org
SUMMARY:New Years Day- Township Office Closed
DESCRIPTION:
URL:https://lowerheidelbergtownship.org/event/new-years-day-township-office-closed/
LOCATION:Lower Heidelberg Township Building
END:VEVENT
BEGIN:VEVENT
DTSTART;VALUE=DATE:20270104
DTEND;VALUE=DATE:20270109
DTSTAMP:20260424T160249
CREATED:20260205T171604Z
LAST-MODIFIED:20260205T171604Z
UID:10000105-1799020800-1799452799@lowerheidelbergtownship.org
SUMMARY:LHT Christmas Tree Pickup
DESCRIPTION:
URL:https://lowerheidelbergtownship.org/event/lht-christmas-tree-pickup/
END:VEVENT
END:VCALENDAR