BEGIN:VCALENDAR
VERSION:2.0
PRODID:-//Lower Heidelberg Township - ECPv6.15.20//NONSGML v1.0//EN
CALSCALE:GREGORIAN
METHOD:PUBLISH
X-WR-CALNAME:Lower Heidelberg Township
X-ORIGINAL-URL:https://lowerheidelbergtownship.org
X-WR-CALDESC:Events for Lower Heidelberg Township
REFRESH-INTERVAL;VALUE=DURATION:PT1H
X-Robots-Tag:noindex
X-PUBLISHED-TTL:PT1H
BEGIN:VTIMEZONE
TZID:America/New_York
BEGIN:DAYLIGHT
TZOFFSETFROM:-0500
TZOFFSETTO:-0400
TZNAME:EDT
DTSTART:20250309T070000
END:DAYLIGHT
BEGIN:STANDARD
TZOFFSETFROM:-0400
TZOFFSETTO:-0500
TZNAME:EST
DTSTART:20251102T060000
END:STANDARD
BEGIN:DAYLIGHT
TZOFFSETFROM:-0500
TZOFFSETTO:-0400
TZNAME:EDT
DTSTART:20260308T070000
END:DAYLIGHT
BEGIN:STANDARD
TZOFFSETFROM:-0400
TZOFFSETTO:-0500
TZNAME:EST
DTSTART:20261101T060000
END:STANDARD
BEGIN:DAYLIGHT
TZOFFSETFROM:-0500
TZOFFSETTO:-0400
TZNAME:EDT
DTSTART:20270314T070000
END:DAYLIGHT
BEGIN:STANDARD
TZOFFSETFROM:-0400
TZOFFSETTO:-0500
TZNAME:EST
DTSTART:20271107T060000
END:STANDARD
END:VTIMEZONE
BEGIN:VEVENT
DTSTART;TZID=America/New_York:20260519T150000
DTEND;TZID=America/New_York:20260519T160000
DTSTAMP:20260424T093814
CREATED:20260416T160724Z
LAST-MODIFIED:20260416T160725Z
UID:10000042-1779202800-1779206400@lowerheidelbergtownship.org
SUMMARY:Moved to May 12th 2026 -Board Of Supervisors Meeting
DESCRIPTION:Attendees: Board of Supervisors: Paul Prutzman\, Chair\, Cheryl Johnson\, Vice Chair\, Craig Lutz\, Member. \nAlso: Brian Cole Township Manager\, Matt Clay Road Foreman\, Police Chief Chris Stouch\, Jenn Frasso\, Treasurer/Secretary\, Glenn Kraft\, Kraft Municipal Group Building/Zoning Engineering\, Ryan Rhode\, Kraft Municipal Group/Engineering\, Jim McCarthy\, McCarthy Engineering (SEO)\, Andrew Bellwoar Esquire.
URL:https://lowerheidelbergtownship.org/event/board-of-supervisors-meeting-5/
END:VEVENT
BEGIN:VEVENT
DTSTART;TZID=America/New_York:20260616T150000
DTEND;TZID=America/New_York:20260616T160000
DTSTAMP:20260424T093814
CREATED:20251218T173246Z
LAST-MODIFIED:20260318T151954Z
UID:10000043-1781622000-1781625600@lowerheidelbergtownship.org
SUMMARY:Board Of Supervisors Meeting
DESCRIPTION:Attendees: Board of Supervisors: Paul Prutzman\, Chair\, Cheryl Johnson\, Vice Chair\, Craig Lutz\, Member. \nAlso: Brian Cole Township Manager\, Matt Clay Road Foreman\, Police Chief Chris Stouch\, Jenn Frasso\, Treasurer/Secretary\, Glenn Kraft\, Kraft Municipal Group Building/Zoning Engineering\, Ryan Rhode\, Kraft Municipal Group/Engineering\, Jim McCarthy\, McCarthy Engineering (SEO)\, Andrew Bellwoar Esquire.
URL:https://lowerheidelbergtownship.org/event/board-of-supervisors-meeting/2026-06-16/
END:VEVENT
BEGIN:VEVENT
DTSTART;TZID=America/New_York:20260721T150000
DTEND;TZID=America/New_York:20260721T160000
DTSTAMP:20260424T093814
CREATED:20251218T173246Z
LAST-MODIFIED:20260318T151954Z
UID:10000044-1784646000-1784649600@lowerheidelbergtownship.org
SUMMARY:Board Of Supervisors Meeting
DESCRIPTION:Attendees: Board of Supervisors: Paul Prutzman\, Chair\, Cheryl Johnson\, Vice Chair\, Craig Lutz\, Member. \nAlso: Brian Cole Township Manager\, Matt Clay Road Foreman\, Police Chief Chris Stouch\, Jenn Frasso\, Treasurer/Secretary\, Glenn Kraft\, Kraft Municipal Group Building/Zoning Engineering\, Ryan Rhode\, Kraft Municipal Group/Engineering\, Jim McCarthy\, McCarthy Engineering (SEO)\, Andrew Bellwoar Esquire.
URL:https://lowerheidelbergtownship.org/event/board-of-supervisors-meeting/2026-07-21/
END:VEVENT
BEGIN:VEVENT
DTSTART;TZID=America/New_York:20260818T150000
DTEND;TZID=America/New_York:20260818T160000
DTSTAMP:20260424T093814
CREATED:20251218T173246Z
LAST-MODIFIED:20260318T151954Z
UID:10000045-1787065200-1787068800@lowerheidelbergtownship.org
SUMMARY:Board Of Supervisors Meeting
DESCRIPTION:Attendees: Board of Supervisors: Paul Prutzman\, Chair\, Cheryl Johnson\, Vice Chair\, Craig Lutz\, Member. \nAlso: Brian Cole Township Manager\, Matt Clay Road Foreman\, Police Chief Chris Stouch\, Jenn Frasso\, Treasurer/Secretary\, Glenn Kraft\, Kraft Municipal Group Building/Zoning Engineering\, Ryan Rhode\, Kraft Municipal Group/Engineering\, Jim McCarthy\, McCarthy Engineering (SEO)\, Andrew Bellwoar Esquire.
URL:https://lowerheidelbergtownship.org/event/board-of-supervisors-meeting/2026-08-18/
END:VEVENT
BEGIN:VEVENT
DTSTART;TZID=America/New_York:20260915T150000
DTEND;TZID=America/New_York:20260915T160000
DTSTAMP:20260424T093814
CREATED:20251218T173246Z
LAST-MODIFIED:20260318T151954Z
UID:10000046-1789484400-1789488000@lowerheidelbergtownship.org
SUMMARY:Board Of Supervisors Meeting
DESCRIPTION:Attendees: Board of Supervisors: Paul Prutzman\, Chair\, Cheryl Johnson\, Vice Chair\, Craig Lutz\, Member. \nAlso: Brian Cole Township Manager\, Matt Clay Road Foreman\, Police Chief Chris Stouch\, Jenn Frasso\, Treasurer/Secretary\, Glenn Kraft\, Kraft Municipal Group Building/Zoning Engineering\, Ryan Rhode\, Kraft Municipal Group/Engineering\, Jim McCarthy\, McCarthy Engineering (SEO)\, Andrew Bellwoar Esquire.
URL:https://lowerheidelbergtownship.org/event/board-of-supervisors-meeting/2026-09-15/
END:VEVENT
BEGIN:VEVENT
DTSTART;TZID=America/New_York:20261020T150000
DTEND;TZID=America/New_York:20261020T160000
DTSTAMP:20260424T093814
CREATED:20251218T173246Z
LAST-MODIFIED:20260318T151954Z
UID:10000047-1792508400-1792512000@lowerheidelbergtownship.org
SUMMARY:Board Of Supervisors Meeting
DESCRIPTION:Attendees: Board of Supervisors: Paul Prutzman\, Chair\, Cheryl Johnson\, Vice Chair\, Craig Lutz\, Member. \nAlso: Brian Cole Township Manager\, Matt Clay Road Foreman\, Police Chief Chris Stouch\, Jenn Frasso\, Treasurer/Secretary\, Glenn Kraft\, Kraft Municipal Group Building/Zoning Engineering\, Ryan Rhode\, Kraft Municipal Group/Engineering\, Jim McCarthy\, McCarthy Engineering (SEO)\, Andrew Bellwoar Esquire.
URL:https://lowerheidelbergtownship.org/event/board-of-supervisors-meeting/2026-10-20/
END:VEVENT
BEGIN:VEVENT
DTSTART;TZID=America/New_York:20261117T150000
DTEND;TZID=America/New_York:20261117T160000
DTSTAMP:20260424T093814
CREATED:20251218T173246Z
LAST-MODIFIED:20260318T151954Z
UID:10000048-1794927600-1794931200@lowerheidelbergtownship.org
SUMMARY:Board Of Supervisors Meeting
DESCRIPTION:Attendees: Board of Supervisors: Paul Prutzman\, Chair\, Cheryl Johnson\, Vice Chair\, Craig Lutz\, Member. \nAlso: Brian Cole Township Manager\, Matt Clay Road Foreman\, Police Chief Chris Stouch\, Jenn Frasso\, Treasurer/Secretary\, Glenn Kraft\, Kraft Municipal Group Building/Zoning Engineering\, Ryan Rhode\, Kraft Municipal Group/Engineering\, Jim McCarthy\, McCarthy Engineering (SEO)\, Andrew Bellwoar Esquire.
URL:https://lowerheidelbergtownship.org/event/board-of-supervisors-meeting/2026-11-17/
END:VEVENT
BEGIN:VEVENT
DTSTART;TZID=America/New_York:20261215T150000
DTEND;TZID=America/New_York:20261215T160000
DTSTAMP:20260424T093814
CREATED:20251218T173246Z
LAST-MODIFIED:20260318T151954Z
UID:10000049-1797346800-1797350400@lowerheidelbergtownship.org
SUMMARY:Board Of Supervisors Meeting
DESCRIPTION:Attendees: Board of Supervisors: Paul Prutzman\, Chair\, Cheryl Johnson\, Vice Chair\, Craig Lutz\, Member. \nAlso: Brian Cole Township Manager\, Matt Clay Road Foreman\, Police Chief Chris Stouch\, Jenn Frasso\, Treasurer/Secretary\, Glenn Kraft\, Kraft Municipal Group Building/Zoning Engineering\, Ryan Rhode\, Kraft Municipal Group/Engineering\, Jim McCarthy\, McCarthy Engineering (SEO)\, Andrew Bellwoar Esquire.
URL:https://lowerheidelbergtownship.org/event/board-of-supervisors-meeting/2026-12-15/
END:VEVENT
END:VCALENDAR